BEGIN:VCALENDAR
PRODID:NingEventWidget-v1
VERSION:2.0
METHOD:PUBLISH
BEGIN:VTIMEZONE
TZID:Africa/Algiers
X-LIC-LOCATION:Africa/Algiers
BEGIN:STANDARD
TZOFFSETFROM:+0100
TZOFFSETTO:+0100
TZNAME:CET
DTSTART:19700101T000000
END:STANDARD
END:VTIMEZONE
BEGIN:VEVENT
UID:2052744:Event:14870
DTSTAMP:20260421T005450Z
SUMMARY:Workshop \"Self-organizing collective mind\"
DESCRIPTION:We invite you to join us at the Second International\nWork
 shop on Knowledge Federation, October 3-6 2010 in Dubrovnik, Croatia,\
 nwhere we will be exploring the existing patterns\nof collaboration an
 d co-creating new systemic solutions in knowledge work.\n\nFor more in
 formation visit http://globalsensemaking.net/events/workshop-selforgan
 izing
DTSTART;TZID=Africa/Algiers:20101003T000000
DTEND;TZID=Africa/Algiers:20101006T235900
CATEGORIES:workshop
LOCATION:Inter University Centre
WEBSITE:http://KnowledgeFederation.org
URL:http://KnowledgeFederation.org
CONTACT:
ORGANIZER:Dino Karabeg and Jack Park
ATTACH;FMTTYPE="image/jpeg":http://storage.ning.com/topology/rest/1.0/
 file/get/3350810957?profile=original
ATTENDEE;ROLE=REQ-PARTICIPANT;PARTSTAT=ACCEPTED;RSVP=TRUE;CN="Dino Kar
 abeg":http://globalsensemaking.net/profile/DinoKarabeg
END:VEVENT
END:VCALENDAR
