BEGIN:VCALENDAR
PRODID:NingEventWidget-v1
VERSION:2.0
METHOD:PUBLISH
BEGIN:VTIMEZONE
TZID:Africa/Algiers
X-LIC-LOCATION:Africa/Algiers
BEGIN:STANDARD
TZOFFSETFROM:+0100
TZOFFSETTO:+0100
TZNAME:CET
DTSTART:19700101T000000
END:STANDARD
END:VTIMEZONE
BEGIN:VEVENT
UID:2052744:Event:26275
DTSTAMP:20260421T005647Z
SUMMARY:RuleML2012: The 6th International Symposium on Rules
DESCRIPTION:The International Symposium on Rules, RuleML, has evolved 
 from an annual series of international workshops since 2002, internati
 onal conferences in 2005 and 2006, and international symposia since 20
 07. This year the RuleML Symposium will be held in conjunction with EC
 AI 2012, the 20th biennial European Conference on Artificial Intellige
 nce, in Montpellier, France, August 27-29, 2012.ObjectivesÂ ==========
 ==================================RuleML-2012@ECAI is a research-based
 , industry-focused symposium: its main goal is to build a bridge betwe
 en academia and industry in the field of rules and semantic technology
 , and so to stimulate the cooperation and interoperability between bus
 iness and research, by bringing together rule system providers, partic
 ipants in rule standardization efforts, open source communities, pract
 itioners, and researchers. The concept of the symposium has also advan
 ced continuously in the face of extremely rapid progress in practical 
 rule and event processing technologies. As a result, RuleML-2012 will 
 feature hands-on demonstrations and challenges alongside a wide range 
 of thematic tracks. It will thus be an exciting venue to exchange new 
 ideas and experiences on all issues related to the engineering, manage
 ment, integration, interoperation, and interchange of rules in distrib
 uted enterprise intranets and open distributed environments.Â We invit
 e you to share your ideas, results, and experiences: as an industry pr
 actitioner, rule system provider, technical expert and developer, rule
  user or researcher, exploring foundations, developing systems and app
 lications, or using rule-based systems.Â \nTopicsÂ ===================
 =========================We invite high-quality submissions related to
  (but not limited to) one or more of the following topics:Â * Rules an
 d Automated ReasoningÂ * Logic Programming and Non-monotonic Reasoning
 Â * Int. Conference track on Pragmatic Web (see track description belo
 w)Â * Rule-Based Policies, Reputation and TrustÂ * Rule-based Event Pr
 ocessing and Reaction RulesÂ * Fuzzy Rules and UncertaintyÂ * Rule Tra
 nsformation, Extraction and LearningÂ * Vocabularies, Ontologies, and 
 Business rulesÂ * Rules in online-market research and online marketing
 Â * Rule Markup Languages and Rule InterchangeÂ * General Rule TopicsÂ
  Important DatesÂ ============================================Abstract
  submission: March 25, 2012Â Paper submission: April 1, 2012Â Notifica
 tion of acceptance/rejection: May 20, 2012Â Camera-ready copy due: Jun
 e 10, 2012Â RuleML-2012 dates: August 27-29, 2012Â Submission guidelin
 esÂ ============================================Papers must be in Engl
 ish and must be submitted at http://www.easychair.org/conferences/?con
 f=ruleml2012 as:Â * Full Papers (15 pages in the proceedings)Â * Short
  Papers (8 pages in the proceedings)Â Please upload all submissions as
  PDF files based on the LNCS format (http://www.springer.de/comp/lncs/
 authors.html). The selected papers will be published in book form in t
 he Springer Lecture Notes in Computer Science (LNCS) series.Â Organiza
 tionÂ ============================================General Chairs:Â Gri
 goris Antoniou,Guido GovernatoriÂ Program Chairs:Â Antonis BikakisÂ Ad
 rian GiurcaSatellite EventsÂ =========================================
 ===* The 7th AIS SigPrag International Conference Track on Pragmatic W
 ebÂ * The RuleML2012 Doctoral Consortium: http://2012.ruleml.org/phdco
 nsortiumÂ * The 6th International Rule Challenge: http://2012.ruleml.o
 rg/rulechallengeÂ \n\nFor more information visit http://globalsensemak
 ing.net/events/ruleml2012-the-6th-international-symposium-on-rules
DTSTART;TZID=Africa/Algiers:20120827T000000
DTEND;TZID=Africa/Algiers:20120829T235900
CATEGORIES:conference
LOCATION:Montpellier, France
WEBSITE:http://2012.ruleml.org
URL:http://2012.ruleml.org
CONTACT:
ORGANIZER:Grigoris Antoniou, Guido Governatori, Antonis Bikakis, Adria
 n Giurca
ATTACH;FMTTYPE="image/jpeg":
ATTENDEE;ROLE=REQ-PARTICIPANT;PARTSTAT=ACCEPTED;RSVP=TRUE;CN="Antonis 
 Bikakis":http://globalsensemaking.net/profile/AntonisBikakis
END:VEVENT
END:VCALENDAR
