BEGIN:VCALENDAR
PRODID:NingEventWidget-v1
VERSION:2.0
METHOD:PUBLISH
BEGIN:VTIMEZONE
TZID:Africa/Algiers
X-LIC-LOCATION:Africa/Algiers
BEGIN:STANDARD
TZOFFSETFROM:+0100
TZOFFSETTO:+0100
TZNAME:CET
DTSTART:19700101T000000
END:STANDARD
END:VTIMEZONE
BEGIN:VEVENT
UID:2052744:Event:15440
DTSTAMP:20260423T134155Z
SUMMARY:MIT Climate Collaboratorium Contest (exp. on 10/31/2010)
DESCRIPTION:Climate CoLab announces 2010 contest\n\nWhat should we do 
 about climate change?\n\nInstead of waiting for policy makers to act, 
 you can help figure out the answer at the Climate CoLab http://www.cli
 matecolab.org.\n\nWorking alone--or in teams of people from all over t
 he world--you can create proposals for what to do about climate change
 .\n\nThe proposals will be presented to key policy makers, including o
 fficials at the UN and the US Congress.\n\nAnd if your proposal is one
  of the top two, you'll receive travel funding for a representative of
  your team to attend one of these briefings.\n\nThe deadline for the c
 ontest is October 31, 2010.\n\nFor more information visit http://globa
 lsensemaking.net/events/mit-climate-collaboratorium-1
DTSTART;TZID=Africa/Algiers:20101026T180000
DTEND;TZID=Africa/Algiers:20101031T190000
CATEGORIES:online, contest
LOCATION:online
WEBSITE:http://climatecolab.org
URL:http://climatecolab.org
CONTACT:
ORGANIZER:MIT Center for Collective Intelligence (Contact: Robert Laub
 acher <rjl@mit.edu>)
ATTACH;FMTTYPE="image/jpeg":
ATTENDEE;ROLE=REQ-PARTICIPANT;PARTSTAT=ACCEPTED;RSVP=TRUE;CN="Luca Ian
 doli":http://globalsensemaking.net/profile/LucaIandoli
END:VEVENT
END:VCALENDAR
